BEGIN:VCALENDAR
VERSION:2.0
PRODID:-//eventon.com NONSGML v1.0//EN
CALSCALE:GREGORIAN
METHOD:PUBLISH
BEGIN:VEVENT
UID:69e57f32236f9
DTSTAMP:20260420T081946
DTSTART:20190420T190000Z
DTEND:20190420T220000Z
TZID:UTC
LOCATION:Katholisches Pfarrhaus in Bangkok No. 152\,   Sukhumvit Road Soi 20\,  Klong Toey\,  Bangkok 10110
SUMMARY:Feier der Osternacht
DESCRIPTION: Feier der Osternacht\nhttps://www.gemeinde-bangkok.com/events/feier-der-osternacht/
URL:https://www.gemeinde-bangkok.com/events/feier-der-osternacht/
END:VEVENT
END:VCALENDAR