BEGIN:VCALENDAR
VERSION:2.0
PRODID:-//eventon.com NONSGML v1.0//EN
CALSCALE:GREGORIAN
METHOD:PUBLISH
BEGIN:VEVENT
UID:69e83e004e487
DTSTAMP:20260422T101824
DTSTART:20180708T103000Z
DTEND:20180708T120000Z
TZID:UTC
LOCATION:Kapelle St. Louis Hospital in Bangkok 215 Sathorn Rd\,  Khwaeng Yan Nawa\,  Khet Sathon\,  Krung Thep Maha Nakhon 10120\,  Thailand
SUMMARY:Gottesdienst in Bangkok
DESCRIPTION: Gottesdienst in Bangkok\nhttps://www.gemeinde-bangkok.com/events/gottesdienst-in-bangkok-12/var/ri-1.l-L1
URL:https://www.gemeinde-bangkok.com/events/gottesdienst-in-bangkok-12/var/ri-1.l-L1
END:VEVENT
END:VCALENDAR