BEGIN:VCALENDAR
VERSION:2.0
PRODID:-//eventon.com NONSGML v1.0//EN
CALSCALE:GREGORIAN
METHOD:PUBLISH
BEGIN:VEVENT
UID:69e74f2bd494c
DTSTAMP:20260421T171923
DTSTART:20200329T103000Z
DTEND:20200329T120000Z
TZID:UTC
LOCATION:Kapelle St. Louis Hospital in Bangkok 215 Sathorn Rd\,  Khwaeng Yan Nawa\,  Khet Sathon\,  Krung Thep Maha Nakhon 10120\,  Thailand
SUMMARY:Gottesdienst in Bangkok
DESCRIPTION: Gottesdienst in Bangkok\nhttps://www.gemeinde-bangkok.com/events/gottesdienst-in-bangkok-38/
URL:https://www.gemeinde-bangkok.com/events/gottesdienst-in-bangkok-38/
END:VEVENT
END:VCALENDAR