BEGIN:VCALENDAR
VERSION:2.0
PRODID:-//eventon.com NONSGML v1.0//EN
CALSCALE:GREGORIAN
METHOD:PUBLISH
BEGIN:VEVENT
UID:69e4f6031c9ba
DTSTAMP:20260419T223427
DTSTART:20201213T103000Z
DTEND:20201213T120000Z
TZID:UTC
LOCATION:Kapelle neben der Assumption Kathedrale 
SUMMARY:Gottesdienst in Bangkok
DESCRIPTION: Gottesdienst in Bangkok\nhttps://www.gemeinde-bangkok.com/events/gottesdienst-in-bangkok-73/
URL:https://www.gemeinde-bangkok.com/events/gottesdienst-in-bangkok-73/
END:VEVENT
END:VCALENDAR