BEGIN:VCALENDAR
VERSION:2.0
PRODID:-//eventon.com NONSGML v1.0//EN
CALSCALE:GREGORIAN
METHOD:PUBLISH
BEGIN:VEVENT
UID:69ed305708dfe
DTSTAMP:20260426T042127
DTSTART:20201220T103000Z
DTEND:20201220T120000Z
TZID:UTC
LOCATION:Kapelle neben der Assumption Kathedrale 
SUMMARY:Gottesdienst in Bangkok
DESCRIPTION: Gottesdienst in Bangkok\nhttps://www.gemeinde-bangkok.com/events/gottesdienst-in-bangkok-74/
URL:https://www.gemeinde-bangkok.com/events/gottesdienst-in-bangkok-74/
END:VEVENT
END:VCALENDAR