BEGIN:VCALENDAR
VERSION:2.0
PRODID:-//eventon.com NONSGML v1.0//EN
CALSCALE:GREGORIAN
METHOD:PUBLISH
BEGIN:VEVENT
UID:69e74e34c0592
DTSTAMP:20260421T171516
DTSTART:20210110T103000Z
DTEND:20210110T120000Z
TZID:UTC
LOCATION:Kapelle neben der Assumption Kathedrale 
SUMMARY:Gottesdienst in Bangkok
DESCRIPTION: Gottesdienst in Bangkok\nhttps://www.gemeinde-bangkok.com/events/gottesdienst-in-bangkok-77/
URL:https://www.gemeinde-bangkok.com/events/gottesdienst-in-bangkok-77/
END:VEVENT
END:VCALENDAR