BEGIN:VCALENDAR
VERSION:2.0
PRODID:-//eventon.com NONSGML v1.0//EN
CALSCALE:GREGORIAN
METHOD:PUBLISH
BEGIN:VEVENT
UID:69ecb81bbf0aa
DTSTAMP:20260425T194827
DTSTART:20210328T103000Z
DTEND:20210328T120000Z
TZID:UTC
LOCATION:St. John Don Bosco Kirche 1643/3 New Petchaburi Rd\,  Makkasan\,  Ratchathewi
SUMMARY:Gottesdienst in Bangkok
DESCRIPTION: Gottesdienst in Bangkok\nhttps://www.gemeinde-bangkok.com/events/gottesdienst-in-bangkok-94/
URL:https://www.gemeinde-bangkok.com/events/gottesdienst-in-bangkok-94/
END:VEVENT
END:VCALENDAR