BEGIN:VCALENDAR
VERSION:2.0
PRODID:-//eventon.com NONSGML v1.0//EN
CALSCALE:GREGORIAN
METHOD:PUBLISH
BEGIN:VEVENT
UID:69e7eb7af0958
DTSTAMP:20260422T042618
DTSTART:20210425T103000Z
DTEND:20210425T120000Z
TZID:UTC
LOCATION:St. John Don Bosco Kirche 1643/3 New Petchaburi Rd\,  Makkasan\,  Ratchathewi
SUMMARY:Gottesdienst in Bangkok
DESCRIPTION: Gottesdienst in Bangkok\nhttps://www.gemeinde-bangkok.com/events/gottesdienst-in-bangkok-copy-12/
URL:https://www.gemeinde-bangkok.com/events/gottesdienst-in-bangkok-copy-12/
END:VEVENT
END:VCALENDAR