BEGIN:VCALENDAR
VERSION:2.0
PRODID:-//eventon.com NONSGML v1.0//EN
CALSCALE:GREGORIAN
METHOD:PUBLISH
BEGIN:VEVENT
UID:69e5d7dcd9fbd
DTSTAMP:20260420T143804
DTSTART:20210306T110000Z
DTEND:20210306T120000Z
TZID:UTC
LOCATION:St. Nikolaus Church in Pattaya 197/2 Moo 6\,  Sukhumvit Rd.\,  Pattaya 20150
SUMMARY:Gottesdienst in Pattaya
DESCRIPTION: Gottesdienst in Pattaya\nhttps://www.gemeinde-bangkok.com/events/gottesdienst-in-pattaya-16/
URL:https://www.gemeinde-bangkok.com/events/gottesdienst-in-pattaya-16/
END:VEVENT
END:VCALENDAR