BEGIN:VCALENDAR
VERSION:2.0
PRODID:-//eventon.com NONSGML v1.0//EN
CALSCALE:GREGORIAN
METHOD:PUBLISH
BEGIN:VEVENT
UID:69e676ee3bd2c
DTSTAMP:20260421T015646
DTSTART:20210620T103000Z
DTEND:20210620T120000Z
TZID:UTC
LOCATION:St. John Don Bosco Kirche 1643/3 New Petchaburi Rd\,  Makkasan\,  Ratchathewi
SUMMARY:Gottesdienst in Bangkok
DESCRIPTION: Gottesdienst in Bangkok\nhttps://www.gemeinde-bangkok.com/events/gottesdienst-in-bangkok-102/
URL:https://www.gemeinde-bangkok.com/events/gottesdienst-in-bangkok-102/
END:VEVENT
END:VCALENDAR