BEGIN:VCALENDAR
VERSION:2.0
PRODID:-//eventon.com NONSGML v1.0//EN
CALSCALE:GREGORIAN
METHOD:PUBLISH
BEGIN:VEVENT
UID:69e678c8a9666
DTSTAMP:20260421T020440
DTSTART:20190422T110000Z
DTEND:20190422T120000Z
TZID:UTC
LOCATION:St. Nikolaus Church in Pattaya 197/2 Moo 6\,  Sukhumvit Rd.\,  Pattaya 20150
SUMMARY:Ostern in Pattaya
DESCRIPTION: Ostern in Pattaya\nhttps://www.gemeinde-bangkok.com/events/ostern-in-pattaya/
URL:https://www.gemeinde-bangkok.com/events/ostern-in-pattaya/
END:VEVENT
END:VCALENDAR