BEGIN:VCALENDAR
VERSION:2.0
PRODID:-//eventon.com NONSGML v1.0//EN
CALSCALE:GREGORIAN
METHOD:PUBLISH
BEGIN:VEVENT
UID:69e8a72c475a3
DTSTAMP:20260422T174708
DTSTART:20221105T100000Z
DTEND:20221105T120000Z
TZID:UTC
LOCATION:St. Nikolaus Church in Pattaya 197/2 Moo 6\,  Sukhumvit Rd.\,  Pattaya 20150
SUMMARY:Gottesdienst in Pattaya
DESCRIPTION: Gottesdienst in Pattaya\nhttps://www.gemeinde-bangkok.com/events/gottesdienst-in-pattaya-22/
URL:https://www.gemeinde-bangkok.com/events/gottesdienst-in-pattaya-22/
END:VEVENT
END:VCALENDAR