BEGIN:VCALENDAR
VERSION:2.0
PRODID:-//eventon.com NONSGML v1.0//EN
CALSCALE:GREGORIAN
METHOD:PUBLISH
BEGIN:VEVENT
UID:69e6628e434c2
DTSTAMP:20260421T002950
DTSTART:20221204T110000Z
DTEND:20221204T120000Z
TZID:UTC
LOCATION:St. John Don Bosco Kirche 1643/3 New Petchaburi Rd\,  Makkasan\,  Ratchathewi
SUMMARY:Gottesdienst in Bangkok
DESCRIPTION: Gottesdienst in Bangkok\nhttps://www.gemeinde-bangkok.com/events/gottesdienst-in-bangkok-120/
URL:https://www.gemeinde-bangkok.com/events/gottesdienst-in-bangkok-120/
END:VEVENT
END:VCALENDAR