BEGIN:VCALENDAR
VERSION:2.0
PRODID:-//eventon.com NONSGML v1.0//EN
CALSCALE:GREGORIAN
METHOD:PUBLISH
BEGIN:VEVENT
UID:69e745794ee67
DTSTAMP:20260421T163801
DTSTART:20230225T110000Z
DTEND:20230225T120000Z
TZID:UTC
LOCATION:Queen of Peace church HX83+HCF\,  Areyksat\,  Kambodscha
SUMMARY:Ökumenischer Familiengottesdienst in Phnom Penh
DESCRIPTION: Ökumenischer Familiengottesdienst in Phnom Penh\nhttps://www.gemeinde-bangkok.com/events/oekumenischer-familiengottesdienst-in-phnom-penh/
URL:https://www.gemeinde-bangkok.com/events/oekumenischer-familiengottesdienst-in-phnom-penh/
END:VEVENT
END:VCALENDAR