BEGIN:VCALENDAR
VERSION:2.0
PRODID:-//eventon.com NONSGML v1.0//EN
CALSCALE:GREGORIAN
METHOD:PUBLISH
BEGIN:VEVENT
UID:69e87283b6043
DTSTAMP:20260422T140227
DTSTART:20230326T110000Z
DTEND:20230326T120000Z
TZID:UTC
LOCATION:St. John Don Bosco Kirche 1643/3 New Petchaburi Rd\,  Makkasan\,  Ratchathewi
SUMMARY:Gottesdienst Familiengottesdienst in Bangkok
DESCRIPTION: Gottesdienst Familiengottesdienst in Bangkok\nhttps://www.gemeinde-bangkok.com/events/gottesdienst-familiengottesdienst-in-bangkok/
URL:https://www.gemeinde-bangkok.com/events/gottesdienst-familiengottesdienst-in-bangkok/
END:VEVENT
END:VCALENDAR