BEGIN:VCALENDAR
VERSION:2.0
PRODID:-//eventon.com NONSGML v1.0//EN
CALSCALE:GREGORIAN
METHOD:PUBLISH
BEGIN:VEVENT
UID:69e634faf1dd5
DTSTAMP:20260420T211522
DTSTART:20230610T110000Z
DTEND:20230610T120000Z
TZID:UTC
LOCATION:Sacre Coer Cathedral XJ67+JV5
SUMMARY:Gottesdienst in Vientiane
DESCRIPTION: Gottesdienst in Vientiane\nhttps://www.gemeinde-bangkok.com/events/gottesdienst-in-vientiane-3/
URL:https://www.gemeinde-bangkok.com/events/gottesdienst-in-vientiane-3/
END:VEVENT
END:VCALENDAR