BEGIN:VCALENDAR
VERSION:2.0
PRODID:-//eventon.com NONSGML v1.0//EN
CALSCALE:GREGORIAN
METHOD:PUBLISH
BEGIN:VEVENT
UID:69e62c1fec322
DTSTAMP:20260420T203735
DTSTART:20231127T020000Z
DTEND:20231127T050000Z
TZID:Pacific/Midway
LOCATION:Evangelisches Gemeindehaus in Bangkok 125/1 Sitthi Prasat Alley\,  Khwaeng Thung Maha Mek\,  Khet Sathon\,  Krung Thep Maha Nakhon 10120
SUMMARY:Ökumenische Nikolausfeier mit Adventsbasar in Bangkok
DESCRIPTION: Ökumenische Nikolausfeier mit Adventsbasar in Bangkok\nhttps://www.gemeinde-bangkok.com/events/oekumenische-nikolausfeier-mit-adventsbasar-in-bangkok/
URL:https://www.gemeinde-bangkok.com/events/oekumenische-nikolausfeier-mit-adventsbasar-in-bangkok/
END:VEVENT
END:VCALENDAR