BEGIN:VCALENDAR
VERSION:2.0
PRODID:-//eventon.com NONSGML v1.0//EN
CALSCALE:GREGORIAN
METHOD:PUBLISH
BEGIN:VEVENT
UID:69e503ace1ffe
DTSTAMP:20260419T233244
DTSTART:20231225T230000Z
DTEND:20231226T000000Z
TZID:Pacific/Midway
LOCATION:Salesian Sisters Foundation PGGP+5WR\,  Sala Daeng Rd\,  Silom\,  Bang Rak\,  Bangkok 10500
SUMMARY:Waihnachtshochamt in Bangkok
DESCRIPTION: Waihnachtshochamt in Bangkok\nhttps://www.gemeinde-bangkok.com/events/waihnachtshochamt-in-bangkok/
URL:https://www.gemeinde-bangkok.com/events/waihnachtshochamt-in-bangkok/
END:VEVENT
END:VCALENDAR