BEGIN:VCALENDAR
VERSION:2.0
PRODID:-//eventon.com NONSGML v1.0//EN
CALSCALE:GREGORIAN
METHOD:PUBLISH
BEGIN:VEVENT
UID:69e6907c5ec04
DTSTAMP:20260421T034548
DTSTART:20231230T220000Z
DTEND:20231230T230000Z
TZID:Pacific/Midway
LOCATION:Deutsche Botshaft 
SUMMARY:Weihnachtsgottesdienst mit Segen zum Jahresabschluss und -beginn in Vientiane an der Deutschen Botschaft
DESCRIPTION: Weihnachtsgottesdienst mit Segen zum Jahresabschluss und -beginn in Vientiane an der Deutschen Botschaft\nhttps://www.gemeinde-bangkok.com/events/weihnachtsgottesdienst-mit-segen-zum-jahresabschluss-und-beginn-in-vientiane/
URL:https://www.gemeinde-bangkok.com/events/weihnachtsgottesdienst-mit-segen-zum-jahresabschluss-und-beginn-in-vientiane/
END:VEVENT
END:VCALENDAR