BEGIN:VCALENDAR
VERSION:2.0
PRODID:-//eventon.com NONSGML v1.0//EN
CALSCALE:GREGORIAN
METHOD:PUBLISH
BEGIN:VEVENT
UID:69e663aea9f18
DTSTAMP:20260421T003438
DTSTART:20240215T020000Z
DTEND:20240215T030000Z
TZID:Pacific/Midway
LOCATION:St. Theresa Church HX65+CC9\,  Hua Hin\,  Hua Hin District\,  Prachuap Khiri Khan 77110\,  Thailand
SUMMARY:Katholischer Gottesdienst zu Aschermittwoch in Hua Hin
DESCRIPTION: \nhttps://www.gemeinde-bangkok.com/events/katholischer-gottesdienst-zu-aschermittwoch-in-hua-hin/
URL:https://www.gemeinde-bangkok.com/events/katholischer-gottesdienst-zu-aschermittwoch-in-hua-hin/
END:VEVENT
END:VCALENDAR