BEGIN:VCALENDAR
VERSION:2.0
PRODID:-//eventon.com NONSGML v1.0//EN
CALSCALE:GREGORIAN
METHOD:PUBLISH
BEGIN:VEVENT
UID:69e9fc63789dc
DTSTAMP:20260423T180259
DTSTART:20240218T050000Z
DTEND:20240218T060000Z
TZID:Asia/Bangkok
LOCATION:Salesian Sisters Foundation PGGP+5WR\,  Sala Daeng Rd\,  Silom\,  Bang Rak\,  Bangkok 10500
SUMMARY:Ökumenischer Familien-Gottesdienst mit Austeilung des Aschenkreuzes in Bangkok
DESCRIPTION: Ökumenischer Familien-Gottesdienst mit Austeilung des Aschenkreuzes in Bangkok\nhttps://www.gemeinde-bangkok.com/events/oekumenischer-familien-gottesdienst-mit-austeilung-des-aschenkreuzes-in-bangkok/
URL:https://www.gemeinde-bangkok.com/events/oekumenischer-familien-gottesdienst-mit-austeilung-des-aschenkreuzes-in-bangkok/
END:VEVENT
END:VCALENDAR