BEGIN:VCALENDAR
VERSION:2.0
PRODID:-//eventon.com NONSGML v1.0//EN
CALSCALE:GREGORIAN
METHOD:PUBLISH
BEGIN:VEVENT
UID:69e8a4481421f
DTSTAMP:20260422T173448
DTSTART:20240427T110000Z
DTEND:20240427T140000Z
TZID:UTC
LOCATION:Deutsche Botschaft Phnom Penh No. 76-77\, 78\,  Street 214\,  Rue Yougoslavie\,  
SUMMARY:Ökumenischer Familiengottesdienst in Phnom Penh
DESCRIPTION: Ökumenischer Familiengottesdienst in Phnom Penh\nhttps://www.gemeinde-bangkok.com/events/oekumenischer-familiengottesdienst-zu-pfingsten-in-phnom-penh-2/
URL:https://www.gemeinde-bangkok.com/events/oekumenischer-familiengottesdienst-zu-pfingsten-in-phnom-penh-2/
END:VEVENT
END:VCALENDAR