BEGIN:VCALENDAR
VERSION:2.0
PRODID:-//eventon.com NONSGML v1.0//EN
CALSCALE:GREGORIAN
METHOD:PUBLISH
BEGIN:VEVENT
UID:69e8a663acf6f
DTSTAMP:20260422T174347
DTSTART:20240831T220000Z
DTEND:20240831T230000Z
TZID:Pacific/Midway
LOCATION:St. Theresa Church HX65+CC9\,  Hua Hin\,  Hua Hin District\,  Prachuap Khiri Khan 77110\,  Thailand
SUMMARY:Katholischer Gottesdienst in Hua Hin
DESCRIPTION: \nhttps://www.gemeinde-bangkok.com/events/katholischer-gottesdienst-in-hua-hin-3/
URL:https://www.gemeinde-bangkok.com/events/katholischer-gottesdienst-in-hua-hin-3/
END:VEVENT
END:VCALENDAR